BEGIN:VCALENDAR
PRODID:-//Sri Lanka Promotions//NONSGML v1.0//EN
VERSION:2.0
CALSCALE:GREGORIAN
METHOD:PUBLISH
X-WR-CALNAME:Sri Lanka Promotions
X-ORIGINAL-URL:https://srilanka-promotions.com
X-WR-CALDESC:Events for Sri Lanka Promotions
BEGIN:VEVENT
DTSTART:20240609T000000
DTEND:20240609T235900
DTSTAMP:20260424T094208
CREATED:20240609T134304
LAST-MODIFIED:20240609T134304
UID:10761@https://srilanka-promotions.com
SUMMARY:KFC Sri Lanka Selling 10pc H&C Chicken and 2 Pillaf Rice for Rs. 2,990 Sunday Special on 9 June 2024
DESCRIPTION:Get 10 pieces of chicken and rice at a steal. For more information, visit [ https://srilanka-promotions.com/dining-restaurants-food/kfc-sri-lanka-selling-10pc-hc-chicken-and-2-pillaf-rice-for-rs-2990-sunday-special-on-9-june-2024-10761/ ]. 
LOCATION:
URL:https://srilanka-promotions.com/dining-restaurants-food/kfc-sri-lanka-selling-10pc-hc-chicken-and-2-pillaf-rice-for-rs-2990-sunday-special-on-9-june-2024-10761/
END:VEVENT
END:VCALENDAR