BEGIN:VCALENDAR
PRODID:-//Sri Lanka Promotions//NONSGML v1.0//EN
VERSION:2.0
CALSCALE:GREGORIAN
METHOD:PUBLISH
X-WR-CALNAME:Sri Lanka Promotions
X-ORIGINAL-URL:https://srilanka-promotions.com
X-WR-CALDESC:Events for Sri Lanka Promotions
BEGIN:VEVENT
DTSTART:20240628T000000
DTEND:20240630T235900
DTSTAMP:20260422T081859
CREATED:20240628T160449
LAST-MODIFIED:20240628T160449
UID:10843@https://srilanka-promotions.com
SUMMARY:Pizza Hut Sri Lanka Offers Rs. 2000 Discount on Large Pan Pizzas Till 30 June 2024
DESCRIPTION:Savour the weekend with delightful discounts at Pizza Hut. For more information, visit [ https://srilanka-promotions.com/dining-restaurants-food/pizza-hut-sri-lanka-offers-rs-2000-discount-on-large-pan-pizzas-till-30-june-2024-10843/ ]. 
LOCATION:
URL:https://srilanka-promotions.com/dining-restaurants-food/pizza-hut-sri-lanka-offers-rs-2000-discount-on-large-pan-pizzas-till-30-june-2024-10843/
END:VEVENT
END:VCALENDAR