BEGIN:VCALENDAR
PRODID:-//Sri Lanka Promotions//NONSGML v1.0//EN
VERSION:2.0
CALSCALE:GREGORIAN
METHOD:PUBLISH
X-WR-CALNAME:Sri Lanka Promotions
X-ORIGINAL-URL:https://srilanka-promotions.com
X-WR-CALDESC:Events for Sri Lanka Promotions
BEGIN:VEVENT
DTSTART:20240706T000000
DTEND:20240707T235900
DTSTAMP:20260425T174117
CREATED:20240706T112840
LAST-MODIFIED:20240706T112840
UID:10893@https://srilanka-promotions.com
SUMMARY:Domino's Sri Lanka Has Rs. 1,000 Discount on Large Pizzas for This Weekend Only till 7 July 2024
DESCRIPTION:Enjoy Rs. 1,000 off on your favourite large pizzas this weekend at Domino's Sri Lanka. For more information, visit [ https://srilanka-promotions.com/dining-restaurants-food/dominos-sri-lanka-has-rs-1000-discount-on-large-pizzas-for-this-weekend-only-till-7-july-2024-10893/ ]. 
LOCATION:
URL:https://srilanka-promotions.com/dining-restaurants-food/dominos-sri-lanka-has-rs-1000-discount-on-large-pizzas-for-this-weekend-only-till-7-july-2024-10893/
END:VEVENT
END:VCALENDAR