BEGIN:VCALENDAR
PRODID:-//Sri Lanka Promotions//NONSGML v1.0//EN
VERSION:2.0
CALSCALE:GREGORIAN
METHOD:PUBLISH
X-WR-CALNAME:Sri Lanka Promotions
X-ORIGINAL-URL:https://srilanka-promotions.com
X-WR-CALDESC:Events for Sri Lanka Promotions
BEGIN:VEVENT
DTSTART:20240707T000000
DTEND:20240707T235900
DTSTAMP:20260419T193338
CREATED:20240707T124411
LAST-MODIFIED:20240707T124411
UID:10898@https://srilanka-promotions.com
SUMMARY:KFC Sri Lanka Has 8pc Chicken for Rs. 2,100 Deal on Sunday, 7 July 2024
DESCRIPTION:An irresistible feast. For more information, visit [ https://srilanka-promotions.com/dining-restaurants-food/kfc-sri-lanka-has-8pc-chicken-for-rs-2100-deal-on-sunday-7-july-2024-10898/ ]. 
LOCATION:
URL:https://srilanka-promotions.com/dining-restaurants-food/kfc-sri-lanka-has-8pc-chicken-for-rs-2100-deal-on-sunday-7-july-2024-10898/
END:VEVENT
END:VCALENDAR