BEGIN:VCALENDAR
PRODID:-//Sri Lanka Promotions//NONSGML v1.0//EN
VERSION:2.0
CALSCALE:GREGORIAN
METHOD:PUBLISH
X-WR-CALNAME:Sri Lanka Promotions
X-ORIGINAL-URL:https://srilanka-promotions.com
X-WR-CALDESC:Events for Sri Lanka Promotions
BEGIN:VEVENT
DTSTART:20240713T000000
DTEND:20240714T235900
DTSTAMP:20260423T163321
CREATED:20240713T113656
LAST-MODIFIED:20240713T113656
UID:10909@https://srilanka-promotions.com
SUMMARY:Domino's Sri Lanka Offers Rs. 1,000 Discount on Large Pizzas This Weekend till 14 July 2024
DESCRIPTION:Enjoy Rs. 1,000 off on your favourite large pizzas this weekend at Domino's Sri Lanka. For more information, visit [ https://srilanka-promotions.com/dining-restaurants-food/dominos-sri-lanka-offers-rs-1000-discount-on-large-pizzas-this-weekend-till-14-july-2024-10909/ ]. 
LOCATION:
URL:https://srilanka-promotions.com/dining-restaurants-food/dominos-sri-lanka-offers-rs-1000-discount-on-large-pizzas-this-weekend-till-14-july-2024-10909/
END:VEVENT
END:VCALENDAR