BEGIN:VCALENDAR
PRODID:-//Sri Lanka Promotions//NONSGML v1.0//EN
VERSION:2.0
CALSCALE:GREGORIAN
METHOD:PUBLISH
X-WR-CALNAME:Sri Lanka Promotions
X-ORIGINAL-URL:https://srilanka-promotions.com
X-WR-CALDESC:Events for Sri Lanka Promotions
BEGIN:VEVENT
DTSTART:20240717T000000
DTEND:20240717T235900
DTSTAMP:20260419T152354
CREATED:20240717T102529
LAST-MODIFIED:20240717T102529
UID:10916@https://srilanka-promotions.com
SUMMARY:KFC Sri Lanka Offers 8pc Chicken & 2 Pilaf Rice for Rs. 2,990 on 17th July 2024
DESCRIPTION:Finger lickin' good. For more information, visit [ https://srilanka-promotions.com/dining-restaurants-food/kfc-sri-lanka-offers-8pc-chicken-2-pilaf-rice-for-rs-2990-on-17th-july-2024-10916/ ]. 
LOCATION:
URL:https://srilanka-promotions.com/dining-restaurants-food/kfc-sri-lanka-offers-8pc-chicken-2-pilaf-rice-for-rs-2990-on-17th-july-2024-10916/
END:VEVENT
END:VCALENDAR