BEGIN:VCALENDAR
PRODID:-//Sri Lanka Promotions//NONSGML v1.0//EN
VERSION:2.0
CALSCALE:GREGORIAN
METHOD:PUBLISH
X-WR-CALNAME:Sri Lanka Promotions
X-ORIGINAL-URL:https://srilanka-promotions.com
X-WR-CALDESC:Events for Sri Lanka Promotions
BEGIN:VEVENT
DTSTART:20240927T000000
DTEND:20241006T235900
DTSTAMP:20260419T165910
CREATED:20240806T174322
LAST-MODIFIED:20240920T163541
UID:10981@https://srilanka-promotions.com
SUMMARY:Colombo International Book Fair 2024 is happening from 27 Sep - 6 Oct 2024
DESCRIPTION:More than just a marketplace for books. For more information, visit [ https://srilanka-promotions.com/happenings/colombo-international-book-fair-2024-is-happening-from-27-sep-6-oct-2024-10981/ ]. 
LOCATION:
URL:https://srilanka-promotions.com/happenings/colombo-international-book-fair-2024-is-happening-from-27-sep-6-oct-2024-10981/
END:VEVENT
END:VCALENDAR