BEGIN:VCALENDAR
PRODID:-//Sri Lanka Promotions//NONSGML v1.0//EN
VERSION:2.0
CALSCALE:GREGORIAN
METHOD:PUBLISH
X-WR-CALNAME:Sri Lanka Promotions
X-ORIGINAL-URL:https://srilanka-promotions.com
X-WR-CALDESC:Events for Sri Lanka Promotions
BEGIN:VEVENT
DTSTART:20240809T000000
DTEND:20240809T235900
DTSTAMP:20260421T032301
CREATED:20240809T135245
LAST-MODIFIED:20240809T135245
UID:11000@https://srilanka-promotions.com
SUMMARY:KFC Sri Lanka Has One-Day BOGO 8-Piece Chicken Bucket Offer on Friday, 9 August 2024
DESCRIPTION:Don't miss out on KFC's one-day BOGO offer for their 8-piece chicken bucket this Friday. For more information, visit [ https://srilanka-promotions.com/dining-restaurants-food/kfc-sri-lanka-has-one-day-bogo-8-piece-chicken-bucket-offer-on-friday-9-august-2024-11000/ ]. 
LOCATION:
URL:https://srilanka-promotions.com/dining-restaurants-food/kfc-sri-lanka-has-one-day-bogo-8-piece-chicken-bucket-offer-on-friday-9-august-2024-11000/
END:VEVENT
END:VCALENDAR