BEGIN:VCALENDAR
PRODID:-//Sri Lanka Promotions//NONSGML v1.0//EN
VERSION:2.0
CALSCALE:GREGORIAN
METHOD:PUBLISH
X-WR-CALNAME:Sri Lanka Promotions
X-ORIGINAL-URL:https://srilanka-promotions.com
X-WR-CALDESC:Events for Sri Lanka Promotions
BEGIN:VEVENT
DTSTART:20240811T000000
DTEND:20240811T235900
DTSTAMP:20260421T013953
CREATED:20240811T144645
LAST-MODIFIED:20240811T144645
UID:11007@https://srilanka-promotions.com
SUMMARY:KFC Sri Lanka Offers Rs. 2,100 8-Piece Chicken Promotion on Sunday, 11 Aug 2024
DESCRIPTION:Rs. 2,100 for 8 pieces of chicken. For more information, visit [ https://srilanka-promotions.com/dining-restaurants-food/kfc-sri-lanka-offers-rs-2100-8-piece-chicken-promotion-on-sunday-11-aug-2024-11007/ ]. 
LOCATION:
URL:https://srilanka-promotions.com/dining-restaurants-food/kfc-sri-lanka-offers-rs-2100-8-piece-chicken-promotion-on-sunday-11-aug-2024-11007/
END:VEVENT
END:VCALENDAR