BEGIN:VCALENDAR
PRODID:-//Sri Lanka Promotions//NONSGML v1.0//EN
VERSION:2.0
CALSCALE:GREGORIAN
METHOD:PUBLISH
X-WR-CALNAME:Sri Lanka Promotions
X-ORIGINAL-URL:https://srilanka-promotions.com
X-WR-CALDESC:Events for Sri Lanka Promotions
BEGIN:VEVENT
DTSTART:20240829T000000
DTEND:20240830T235900
DTSTAMP:20260423T163318
CREATED:20240829T004022
LAST-MODIFIED:20240829T004022
UID:11067@https://srilanka-promotions.com
SUMMARY:Domino's Sri Lanka Offers Rs. 1,000 Discount on Large Pizzas Till 30 Aug 2024
DESCRIPTION:Get Rs. 1,000 off on large pizzas. For more information, visit [ https://srilanka-promotions.com/dining-restaurants-food/dominos-sri-lanka-offers-rs-1000-discount-on-large-pizzas-till-30-aug-2024-11067/ ]. 
LOCATION:
URL:https://srilanka-promotions.com/dining-restaurants-food/dominos-sri-lanka-offers-rs-1000-discount-on-large-pizzas-till-30-aug-2024-11067/
END:VEVENT
END:VCALENDAR