BEGIN:VCALENDAR
PRODID:-//Sri Lanka Promotions//NONSGML v1.0//EN
VERSION:2.0
CALSCALE:GREGORIAN
METHOD:PUBLISH
X-WR-CALNAME:Sri Lanka Promotions
X-ORIGINAL-URL:https://srilanka-promotions.com
X-WR-CALDESC:Events for Sri Lanka Promotions
BEGIN:VEVENT
DTSTART:20120713T000000
DTEND:20120716T235900
DTSTAMP:20260421T145547
CREATED:20120712T231253
LAST-MODIFIED:20120712T231253
UID:1109@https://srilanka-promotions.com
SUMMARY:SriLankan Airlines Bangkok Promotion Air Fares 13 - 16 Jul 2012
DESCRIPTION:Get Last Minute Getaway Specials to Bangkok from SriLankan Airlines. Enjoy an amazing 25% OFF Bangkok return tickets this holiday season when you buy online.. For more information, visit [ https://srilanka-promotions.com/airlines-flights/srilankan-airlines-bangkok-promotion-air-fares-13-16-jul-2012-1109/ ]. 
LOCATION:
URL:https://srilanka-promotions.com/airlines-flights/srilankan-airlines-bangkok-promotion-air-fares-13-16-jul-2012-1109/
END:VEVENT
END:VCALENDAR