BEGIN:VCALENDAR
PRODID:-//Sri Lanka Promotions//NONSGML v1.0//EN
VERSION:2.0
CALSCALE:GREGORIAN
METHOD:PUBLISH
X-WR-CALNAME:Sri Lanka Promotions
X-ORIGINAL-URL:https://srilanka-promotions.com
X-WR-CALDESC:Events for Sri Lanka Promotions
BEGIN:VEVENT
DTSTART:20240901T000000
DTEND:20240901T235900
DTSTAMP:20260423T104500
CREATED:20240901T105630
LAST-MODIFIED:20240901T105630
UID:11093@https://srilanka-promotions.com
SUMMARY:KFC Sri Lanka 8-Piece Chicken for Rs. 2,100 Promotion on 1 Sep 2024
DESCRIPTION:Pay only Rs. 2,100 for a bucket of 8 pieces of chicken. For more information, visit [ https://srilanka-promotions.com/dining-restaurants-food/kfc-sri-lanka-8-piece-chicken-for-rs-2100-promotion-on-1-sep-2024-11093/ ]. 
LOCATION:
URL:https://srilanka-promotions.com/dining-restaurants-food/kfc-sri-lanka-8-piece-chicken-for-rs-2100-promotion-on-1-sep-2024-11093/
END:VEVENT
END:VCALENDAR