BEGIN:VCALENDAR
PRODID:-//Sri Lanka Promotions//NONSGML v1.0//EN
VERSION:2.0
CALSCALE:GREGORIAN
METHOD:PUBLISH
X-WR-CALNAME:Sri Lanka Promotions
X-ORIGINAL-URL:https://srilanka-promotions.com
X-WR-CALDESC:Events for Sri Lanka Promotions
BEGIN:VEVENT
DTSTART:20240909T000000
DTEND:20240910T235900
DTSTAMP:20260424T154542
CREATED:20240909T132827
LAST-MODIFIED:20240909T132928
UID:11112@https://srilanka-promotions.com
SUMMARY:KFC Sri Lanka Has Limited-Time Buy-2-Get-2-Free Zinger Burgers Offer till 10 Sep 2024
DESCRIPTION:Grab 4 Zinger Burgers for just Rs. 2,520 - only until stocks last!. For more information, visit [ https://srilanka-promotions.com/dining-restaurants-food/kfc-sri-lanka-has-limited-time-buy-2-get-2-free-zinger-burgers-offer-till-10-sep-2024-11112/ ]. 
LOCATION:
URL:https://srilanka-promotions.com/dining-restaurants-food/kfc-sri-lanka-has-limited-time-buy-2-get-2-free-zinger-burgers-offer-till-10-sep-2024-11112/
END:VEVENT
END:VCALENDAR