BEGIN:VCALENDAR
PRODID:-//Sri Lanka Promotions//NONSGML v1.0//EN
VERSION:2.0
CALSCALE:GREGORIAN
METHOD:PUBLISH
X-WR-CALNAME:Sri Lanka Promotions
X-ORIGINAL-URL:https://srilanka-promotions.com
X-WR-CALDESC:Events for Sri Lanka Promotions
BEGIN:VEVENT
DTSTART:20240910T000000
DTEND:20240910T235900
DTSTAMP:20260420T121534
CREATED:20240910T105636
LAST-MODIFIED:20240910T105636
UID:11118@https://srilanka-promotions.com
SUMMARY:KFC Sri Lanka Has Rs. 3,590 Sawan Biriyani Feast Limited-Time Offer on 10 Sep 2024
DESCRIPTION:A whole feast. For more information, visit [ https://srilanka-promotions.com/dining-restaurants-food/kfc-sri-lanka-has-rs-3590-sawan-biriyani-feast-limited-time-offer-on-10-sep-2024-11118/ ]. 
LOCATION:
URL:https://srilanka-promotions.com/dining-restaurants-food/kfc-sri-lanka-has-rs-3590-sawan-biriyani-feast-limited-time-offer-on-10-sep-2024-11118/
END:VEVENT
END:VCALENDAR