BEGIN:VCALENDAR
PRODID:-//Sri Lanka Promotions//NONSGML v1.0//EN
VERSION:2.0
CALSCALE:GREGORIAN
METHOD:PUBLISH
X-WR-CALNAME:Sri Lanka Promotions
X-ORIGINAL-URL:https://srilanka-promotions.com
X-WR-CALDESC:Events for Sri Lanka Promotions
BEGIN:VEVENT
DTSTART:20240911T000000
DTEND:20241225T235900
DTSTAMP:20260424T181045
CREATED:20240911T135810
LAST-MODIFIED:20250107T153049
UID:11123@https://srilanka-promotions.com
SUMMARY:Popeyes Sri Lanka Has Buy One Get One FREE Spicy Chicken Sandwich Wednesdays Deal
DESCRIPTION:Enjoy a Free Spicy Chicken Sandwich Every Wednesday with Popeyes Sri Lanka's Special Offer. For more information, visit [ https://srilanka-promotions.com/dining-restaurants-food/popeyes-sri-lanka-has-buy-one-get-one-free-spicy-chicken-sandwich-wednesdays-deal-from-11-sep-2024-11123/ ]. 
LOCATION:
URL:https://srilanka-promotions.com/dining-restaurants-food/popeyes-sri-lanka-has-buy-one-get-one-free-spicy-chicken-sandwich-wednesdays-deal-from-11-sep-2024-11123/
END:VEVENT
END:VCALENDAR