BEGIN:VCALENDAR
PRODID:-//Sri Lanka Promotions//NONSGML v1.0//EN
VERSION:2.0
CALSCALE:GREGORIAN
METHOD:PUBLISH
X-WR-CALNAME:Sri Lanka Promotions
X-ORIGINAL-URL:https://srilanka-promotions.com
X-WR-CALDESC:Events for Sri Lanka Promotions
BEGIN:VEVENT
DTSTART:20240923T000000
DTEND:20240924T235900
DTSTAMP:20260423T204606
CREATED:20240923T135538
LAST-MODIFIED:20240923T135538
UID:11155@https://srilanka-promotions.com
SUMMARY:KFC Sri Lanka Has Buy-2-Get-2-Free Zinger Burgers Promo till 24 September 2024
DESCRIPTION:Get 4 delicious Zinger Burgers for Rs. 2,520 at KFC. For more information, visit [ https://srilanka-promotions.com/dining-restaurants-food/kfc-sri-lanka-has-buy-2-get-2-free-zinger-burgers-promo-till-24-september-2024-11155/ ]. 
LOCATION:
URL:https://srilanka-promotions.com/dining-restaurants-food/kfc-sri-lanka-has-buy-2-get-2-free-zinger-burgers-promo-till-24-september-2024-11155/
END:VEVENT
END:VCALENDAR