BEGIN:VCALENDAR
PRODID:-//Sri Lanka Promotions//NONSGML v1.0//EN
VERSION:2.0
CALSCALE:GREGORIAN
METHOD:PUBLISH
X-WR-CALNAME:Sri Lanka Promotions
X-ORIGINAL-URL:https://srilanka-promotions.com
X-WR-CALDESC:Events for Sri Lanka Promotions
BEGIN:VEVENT
DTSTART:20241003T000000
DTEND:20241003T235900
DTSTAMP:20260423T063248
CREATED:20241003T150733
LAST-MODIFIED:20241003T150733
UID:11177@https://srilanka-promotions.com
SUMMARY:KFC Sri Lanka Has Buy-2-Get-2-Free Zinger Burgers Promo on 3 Oct 2024
DESCRIPTION:Get 4 delicious Zinger Burgers for Rs. 2,520 at KFC. For more information, visit [ https://srilanka-promotions.com/dining-restaurants-food/kfc-sri-lanka-has-buy-2-get-2-free-zinger-burgers-promo-on-3-oct-2024-11177/ ]. 
LOCATION:
URL:https://srilanka-promotions.com/dining-restaurants-food/kfc-sri-lanka-has-buy-2-get-2-free-zinger-burgers-promo-on-3-oct-2024-11177/
END:VEVENT
END:VCALENDAR