BEGIN:VCALENDAR
PRODID:-//Sri Lanka Promotions//NONSGML v1.0//EN
VERSION:2.0
CALSCALE:GREGORIAN
METHOD:PUBLISH
X-WR-CALNAME:Sri Lanka Promotions
X-ORIGINAL-URL:https://srilanka-promotions.com
X-WR-CALDESC:Events for Sri Lanka Promotions
BEGIN:VEVENT
DTSTART:20241005T000000
DTEND:20250630T235900
DTSTAMP:20260423T062649
CREATED:20241005T112150
LAST-MODIFIED:20251101T104940
UID:11179@https://srilanka-promotions.com
SUMMARY:Domino's Pizza Sri Lanka Has Weekend Promotions to Tempt Pizza Lovers
DESCRIPTION:Discover exclusive weekend offers at Domino's Sri Lanka, designed for a limited period.. For more information, visit [ https://srilanka-promotions.com/dining-restaurants-food/dominos-pizza-sri-lanka-has-weekend-promotions-to-tempt-pizza-lovers-11179/ ]. 
LOCATION:
URL:https://srilanka-promotions.com/dining-restaurants-food/dominos-pizza-sri-lanka-has-weekend-promotions-to-tempt-pizza-lovers-11179/
END:VEVENT
END:VCALENDAR