BEGIN:VCALENDAR
PRODID:-//Sri Lanka Promotions//NONSGML v1.0//EN
VERSION:2.0
CALSCALE:GREGORIAN
METHOD:PUBLISH
X-WR-CALNAME:Sri Lanka Promotions
X-ORIGINAL-URL:https://srilanka-promotions.com
X-WR-CALDESC:Events for Sri Lanka Promotions
BEGIN:VEVENT
DTSTART:20120713T000000
DTEND:20120720T235900
DTSTAMP:20260420T235336
CREATED:20120713T130718
LAST-MODIFIED:20120713T130736
UID:1120@https://srilanka-promotions.com
SUMMARY:KFC Sri Lanka FREE 2L Pepsi Bottle With Every 12pc Bucket Purchase 13 - 20 July 2012
DESCRIPTION:KFC Sri Lanka is having a "Mega Delivery Offer" delivery promotion – buy a 12pc bucket of chicken at Rs 2190 and get a 2 litre Pepsi bottle FREE. For more information, visit [ https://srilanka-promotions.com/dining-restaurants-food/kfc-sri-lanka-free-2l-pepsi-bottle-with-every-12pc-bucket-purchase-13-20-july-2012-1120/ ]. 
LOCATION:
URL:https://srilanka-promotions.com/dining-restaurants-food/kfc-sri-lanka-free-2l-pepsi-bottle-with-every-12pc-bucket-purchase-13-20-july-2012-1120/
END:VEVENT
END:VCALENDAR