BEGIN:VCALENDAR
PRODID:-//Sri Lanka Promotions//NONSGML v1.0//EN
VERSION:2.0
CALSCALE:GREGORIAN
METHOD:PUBLISH
X-WR-CALNAME:Sri Lanka Promotions
X-ORIGINAL-URL:https://srilanka-promotions.com
X-WR-CALDESC:Events for Sri Lanka Promotions
BEGIN:VEVENT
DTSTART:20241108T000000
DTEND:20241111T235900
DTSTAMP:20260423T133617
CREATED:20241108T172259
LAST-MODIFIED:20241108T172259
UID:11254@https://srilanka-promotions.com
SUMMARY:Abans offers incredible deals with up to 50% off LG UHD Smart TVs till 11 Nov 2024
DESCRIPTION:Enjoy a cinematic experience at home with Abans 11.11.11 sale on LG UHD TVs. For more information, visit [ https://srilanka-promotions.com/audio-visual-tv-hifi/abans-offers-incredible-deals-with-up-to-50-off-lg-uhd-smart-tvs-till-11-nov-2024-11254/ ]. 
LOCATION:
URL:https://srilanka-promotions.com/audio-visual-tv-hifi/abans-offers-incredible-deals-with-up-to-50-off-lg-uhd-smart-tvs-till-11-nov-2024-11254/
END:VEVENT
END:VCALENDAR