BEGIN:VCALENDAR
PRODID:-//Sri Lanka Promotions//NONSGML v1.0//EN
VERSION:2.0
CALSCALE:GREGORIAN
METHOD:PUBLISH
X-WR-CALNAME:Sri Lanka Promotions
X-ORIGINAL-URL:https://srilanka-promotions.com
X-WR-CALDESC:Events for Sri Lanka Promotions
BEGIN:VEVENT
DTSTART:20241120T000000
DTEND:20241225T235900
DTSTAMP:20260421T114723
CREATED:20241120T100804
LAST-MODIFIED:20250108T133321
UID:11284@https://srilanka-promotions.com
SUMMARY:KFC Sri Lanka offers 9-piece chicken for Rs. 3,250 promotion on Wednesdays
DESCRIPTION:Pay only Rs. 3,250 for a bucket of 9 pieces of chicken. For more information, visit [ https://srilanka-promotions.com/dining-restaurants-food/kfc-sri-lanka-offers-9-piece-chicken-for-rs-3250-promotion-on-wednesdays-11284/ ]. 
LOCATION:
URL:https://srilanka-promotions.com/dining-restaurants-food/kfc-sri-lanka-offers-9-piece-chicken-for-rs-3250-promotion-on-wednesdays-11284/
END:VEVENT
END:VCALENDAR