BEGIN:VCALENDAR
PRODID:-//Sri Lanka Promotions//NONSGML v1.0//EN
VERSION:2.0
CALSCALE:GREGORIAN
METHOD:PUBLISH
X-WR-CALNAME:Sri Lanka Promotions
X-ORIGINAL-URL:https://srilanka-promotions.com
X-WR-CALDESC:Events for Sri Lanka Promotions
BEGIN:VEVENT
DTSTART:20250312T000000
DTEND:20250312T235900
DTSTAMP:20260422T182600
CREATED:20250312T110445
LAST-MODIFIED:20250312T110445
UID:11471@https://srilanka-promotions.com
SUMMARY:Burger King Sri Lanka Get 2 Spicy Chicken Burgers for just Rs. 1,200 on 12 March 2025
DESCRIPTION:Enjoy a fiery double treat. For more information, visit [ https://srilanka-promotions.com/dining-restaurants-food/burger-king-sri-lanka-get-2-spicy-chicken-burgers-for-just-rs-1200-on-12-march-2025-11471/ ]. 
LOCATION:
URL:https://srilanka-promotions.com/dining-restaurants-food/burger-king-sri-lanka-get-2-spicy-chicken-burgers-for-just-rs-1200-on-12-march-2025-11471/
END:VEVENT
END:VCALENDAR