BEGIN:VCALENDAR
PRODID:-//Sri Lanka Promotions//NONSGML v1.0//EN
VERSION:2.0
CALSCALE:GREGORIAN
METHOD:PUBLISH
X-WR-CALNAME:Sri Lanka Promotions
X-ORIGINAL-URL:https://srilanka-promotions.com
X-WR-CALDESC:Events for Sri Lanka Promotions
BEGIN:VEVENT
DTSTART:20250312T000000
DTEND:20250312T235900
DTSTAMP:20260421T114916
CREATED:20250312T110622
LAST-MODIFIED:20250312T110622
UID:11476@https://srilanka-promotions.com
SUMMARY:KFC Sri Lanka One-Day Deal: 9-Piece Chicken & 4 Pilaf Rice for Rs. 3,590 on 12 Mar 2025
DESCRIPTION:Savour a delightful KFC combo. For more information, visit [ https://srilanka-promotions.com/dining-restaurants-food/kfc-sri-lanka-one-day-deal-9-piece-chicken-4-pilaf-rice-for-rs-3590-on-12-mar-2025-11476/ ]. 
LOCATION:
URL:https://srilanka-promotions.com/dining-restaurants-food/kfc-sri-lanka-one-day-deal-9-piece-chicken-4-pilaf-rice-for-rs-3590-on-12-mar-2025-11476/
END:VEVENT
END:VCALENDAR