BEGIN:VCALENDAR
PRODID:-//Sri Lanka Promotions//NONSGML v1.0//EN
VERSION:2.0
CALSCALE:GREGORIAN
METHOD:PUBLISH
X-WR-CALNAME:Sri Lanka Promotions
X-ORIGINAL-URL:https://srilanka-promotions.com
X-WR-CALDESC:Events for Sri Lanka Promotions
BEGIN:VEVENT
DTSTART:20250328T000000
DTEND:20250330T235900
DTSTAMP:20260422T084310
CREATED:20250328T142652
LAST-MODIFIED:20250328T142652
UID:11500@https://srilanka-promotions.com
SUMMARY:Pizza Hut Sri Lanka Has Exciting Weekend Deals Until 30 March 2025
DESCRIPTION:Delicious weekend deals await with Pizza Hut Sri Lanka!. For more information, visit [ https://srilanka-promotions.com/dining-restaurants-food/pizza-hut-sri-lanka-has-exciting-weekend-deals-until-30-march-2025-11500/ ]. 
LOCATION:
URL:https://srilanka-promotions.com/dining-restaurants-food/pizza-hut-sri-lanka-has-exciting-weekend-deals-until-30-march-2025-11500/
END:VEVENT
END:VCALENDAR