BEGIN:VCALENDAR
PRODID:-//Sri Lanka Promotions//NONSGML v1.0//EN
VERSION:2.0
CALSCALE:GREGORIAN
METHOD:PUBLISH
X-WR-CALNAME:Sri Lanka Promotions
X-ORIGINAL-URL:https://srilanka-promotions.com
X-WR-CALDESC:Events for Sri Lanka Promotions
BEGIN:VEVENT
DTSTART:20250425T000000
DTEND:20250425T235900
DTSTAMP:20260423T165419
CREATED:20250425T141107
LAST-MODIFIED:20250425T141107
UID:11571@https://srilanka-promotions.com
SUMMARY:Burger King LK Serves Up Buy 1 Get 1 Free Big King Burger Deal on 25 April Only
DESCRIPTION:Get two Big King burgers for the price of one at Burger King Sri Lanka, valid for one day only. For more information, visit [ https://srilanka-promotions.com/dining-restaurants-food/burger-king-lk-serves-up-buy-1-get-1-free-big-king-burger-deal-on-25-april-only-11571/ ]. 
LOCATION:
URL:https://srilanka-promotions.com/dining-restaurants-food/burger-king-lk-serves-up-buy-1-get-1-free-big-king-burger-deal-on-25-april-only-11571/
END:VEVENT
END:VCALENDAR