BEGIN:VCALENDAR
PRODID:-//Sri Lanka Promotions//NONSGML v1.0//EN
VERSION:2.0
CALSCALE:GREGORIAN
METHOD:PUBLISH
X-WR-CALNAME:Sri Lanka Promotions
X-ORIGINAL-URL:https://srilanka-promotions.com
X-WR-CALDESC:Events for Sri Lanka Promotions
BEGIN:VEVENT
DTSTART:20250425T000000
DTEND:20250425T235900
DTSTAMP:20260421T100603
CREATED:20250425T151313
LAST-MODIFIED:20250425T151401
UID:11574@https://srilanka-promotions.com
SUMMARY:KFC Sri Lanka Offers Buy-One-Get-One FREE Chicken Bucket Deal for One Day Only on April 25, 2025
DESCRIPTION:A delicious BOGO offer awaits fried chicken lovers this Friday at KFC Sri Lanka. For more information, visit [ https://srilanka-promotions.com/dining-restaurants-food/kfc-sri-lanka-offers-buy-one-get-one-free-chicken-bucket-deal-for-one-day-only-on-april-25-2025-11574/ ]. 
LOCATION:
URL:https://srilanka-promotions.com/dining-restaurants-food/kfc-sri-lanka-offers-buy-one-get-one-free-chicken-bucket-deal-for-one-day-only-on-april-25-2025-11574/
END:VEVENT
END:VCALENDAR