BEGIN:VCALENDAR
PRODID:-//Sri Lanka Promotions//NONSGML v1.0//EN
VERSION:2.0
CALSCALE:GREGORIAN
METHOD:PUBLISH
X-WR-CALNAME:Sri Lanka Promotions
X-ORIGINAL-URL:https://srilanka-promotions.com
X-WR-CALDESC:Events for Sri Lanka Promotions
BEGIN:VEVENT
DTSTART:20250429T000000
DTEND:20250429T235900
DTSTAMP:20260421T100620
CREATED:20250429T133846
LAST-MODIFIED:20250429T133846
UID:11580@https://srilanka-promotions.com
SUMMARY:KFC Sri Lanka Has One-Day BOGO Chicken Bucket Bonanza on 29 April 2025
DESCRIPTION:Indulge in a finger-lickin' BOGO feast this Tuesday with KFC Sri Lanka's special bucket deal. For more information, visit [ https://srilanka-promotions.com/dining-restaurants-food/kfc-sri-lanka-has-one-day-bogo-chicken-bucket-bonanza-on-29-april-2025-11580/ ]. 
LOCATION:
URL:https://srilanka-promotions.com/dining-restaurants-food/kfc-sri-lanka-has-one-day-bogo-chicken-bucket-bonanza-on-29-april-2025-11580/
END:VEVENT
END:VCALENDAR