BEGIN:VCALENDAR
PRODID:-//Sri Lanka Promotions//NONSGML v1.0//EN
VERSION:2.0
CALSCALE:GREGORIAN
METHOD:PUBLISH
X-WR-CALNAME:Sri Lanka Promotions
X-ORIGINAL-URL:https://srilanka-promotions.com
X-WR-CALDESC:Events for Sri Lanka Promotions
BEGIN:VEVENT
DTSTART:20250507T000000
DTEND:20250507T235900
DTSTAMP:20260421T100621
CREATED:20250507T114323
LAST-MODIFIED:20250507T114323
UID:11613@https://srilanka-promotions.com
SUMMARY:KFC Sri Lanka Has Rs. 3,590 One-Day 9pc Chicken & 4 Pilaf Rice Combo on 7 May 2025
DESCRIPTION:Islandwide offer features 9 chicken pieces and 4 pilaf rice portions for one day only. For more information, visit [ https://srilanka-promotions.com/dining-restaurants-food/kfc-sri-lanka-has-rs-3590-one-day-9pc-chicken-4-pilaf-rice-combo-on-7-may-2025-11613/ ]. 
LOCATION:
URL:https://srilanka-promotions.com/dining-restaurants-food/kfc-sri-lanka-has-rs-3590-one-day-9pc-chicken-4-pilaf-rice-combo-on-7-may-2025-11613/
END:VEVENT
END:VCALENDAR