BEGIN:VCALENDAR
PRODID:-//Sri Lanka Promotions//NONSGML v1.0//EN
VERSION:2.0
CALSCALE:GREGORIAN
METHOD:PUBLISH
X-WR-CALNAME:Sri Lanka Promotions
X-ORIGINAL-URL:https://srilanka-promotions.com
X-WR-CALDESC:Events for Sri Lanka Promotions
BEGIN:VEVENT
DTSTART:20250514T000000
DTEND:20250514T235900
DTSTAMP:20260421T100622
CREATED:20250514T120829
LAST-MODIFIED:20250514T120829
UID:11626@https://srilanka-promotions.com
SUMMARY:KFC Sri Lanka Offers One-Day Rs. 3,590 Deal: 9pc Chicken & 4 Pilaf Rice on 14 May 2025
DESCRIPTION:Limited-time KFC combo features 9 hot & crispy chicken pieces and 4 pilaf rice servings. For more information, visit [ https://srilanka-promotions.com/dining-restaurants-food/kfc-sri-lanka-offers-one-day-rs-3590-deal-9pc-chicken-4-pilaf-rice-on-14-may-2025-11626/ ]. 
LOCATION:
URL:https://srilanka-promotions.com/dining-restaurants-food/kfc-sri-lanka-offers-one-day-rs-3590-deal-9pc-chicken-4-pilaf-rice-on-14-may-2025-11626/
END:VEVENT
END:VCALENDAR