BEGIN:VCALENDAR
PRODID:-//Sri Lanka Promotions//NONSGML v1.0//EN
VERSION:2.0
CALSCALE:GREGORIAN
METHOD:PUBLISH
X-WR-CALNAME:Sri Lanka Promotions
X-ORIGINAL-URL:https://srilanka-promotions.com
X-WR-CALDESC:Events for Sri Lanka Promotions
BEGIN:VEVENT
DTSTART:20250516T000000
DTEND:20250516T235900
DTSTAMP:20260421T100622
CREATED:20250516T134449
LAST-MODIFIED:20250516T134449
UID:11634@https://srilanka-promotions.com
SUMMARY:KFC Sri Lanka Has One-Day BOGO Bucket Bonanza on 16 May 2025
DESCRIPTION:KFC fans in Sri Lanka rush to outlets for the limited-time buy-one-get-one chicken bucket deal. For more information, visit [ https://srilanka-promotions.com/dining-restaurants-food/kfc-sri-lanka-has-one-day-bogo-bucket-bonanza-on-16-may-2025-11634/ ]. 
LOCATION:
URL:https://srilanka-promotions.com/dining-restaurants-food/kfc-sri-lanka-has-one-day-bogo-bucket-bonanza-on-16-may-2025-11634/
END:VEVENT
END:VCALENDAR