BEGIN:VCALENDAR
PRODID:-//Sri Lanka Promotions//NONSGML v1.0//EN
VERSION:2.0
CALSCALE:GREGORIAN
METHOD:PUBLISH
X-WR-CALNAME:Sri Lanka Promotions
X-ORIGINAL-URL:https://srilanka-promotions.com
X-WR-CALDESC:Events for Sri Lanka Promotions
BEGIN:VEVENT
DTSTART:20250530T000000
DTEND:20250530T235900
DTSTAMP:20260425T023140
CREATED:20250530T150434
LAST-MODIFIED:20250530T150434
UID:11661@https://srilanka-promotions.com
SUMMARY:Pizza Hut LK offers Buy 1 Get 1 Free on Large Pizzas this Friday 30 May 2025 only
DESCRIPTION:Valid 30 May 2025. Delivery & takeaway cost Rs. 300 extra.. For more information, visit [ https://srilanka-promotions.com/dining-restaurants-food/pizza-hut-lk-offers-buy-1-get-1-free-on-large-pizzas-this-friday-30-may-2025-only-11661/ ]. 
LOCATION:
URL:https://srilanka-promotions.com/dining-restaurants-food/pizza-hut-lk-offers-buy-1-get-1-free-on-large-pizzas-this-friday-30-may-2025-only-11661/
END:VEVENT
END:VCALENDAR