BEGIN:VCALENDAR
PRODID:-//Sri Lanka Promotions//NONSGML v1.0//EN
VERSION:2.0
CALSCALE:GREGORIAN
METHOD:PUBLISH
X-WR-CALNAME:Sri Lanka Promotions
X-ORIGINAL-URL:https://srilanka-promotions.com
X-WR-CALDESC:Events for Sri Lanka Promotions
BEGIN:VEVENT
DTSTART:20250627T000000
DTEND:20250627T235900
DTSTAMP:20260421T100725
CREATED:20250627T105856
LAST-MODIFIED:20250627T105951
UID:11731@https://srilanka-promotions.com
SUMMARY:KFC Sri Lanka Launches BOGO Hot & Crispy Chicken Bucket Offer for One Day Only on 27 June 2025
DESCRIPTION:Limited-time BOGO chicken bucket sparks rush at KFC Sri Lanka. For more information, visit [ https://srilanka-promotions.com/dining-restaurants-food/kfc-sri-lanka-launches-bogo-hot-crispy-chicken-bucket-offer-for-one-day-only-on-27-june-2025-11731/ ]. 
LOCATION:
URL:https://srilanka-promotions.com/dining-restaurants-food/kfc-sri-lanka-launches-bogo-hot-crispy-chicken-bucket-offer-for-one-day-only-on-27-june-2025-11731/
END:VEVENT
END:VCALENDAR