BEGIN:VCALENDAR
PRODID:-//Sri Lanka Promotions//NONSGML v1.0//EN
VERSION:2.0
CALSCALE:GREGORIAN
METHOD:PUBLISH
X-WR-CALNAME:Sri Lanka Promotions
X-ORIGINAL-URL:https://srilanka-promotions.com
X-WR-CALDESC:Events for Sri Lanka Promotions
BEGIN:VEVENT
DTSTART:20250704T000000
DTEND:20250704T235900
DTSTAMP:20260421T100816
CREATED:20250704T105142
LAST-MODIFIED:20250704T105254
UID:11756@https://srilanka-promotions.com
SUMMARY:KFC Sri Lanka's One-Day BOGO Chicken Bucket Deal on 4 July 2025
DESCRIPTION:Queues form islandwide as KFC's limited BOGO chicken deal heats up on 4 July. For more information, visit [ https://srilanka-promotions.com/dining-restaurants-food/kfc-sri-lankas-one-day-bogo-chicken-bucket-deal-on-4-july-2025-11756/ ]. 
LOCATION:
URL:https://srilanka-promotions.com/dining-restaurants-food/kfc-sri-lankas-one-day-bogo-chicken-bucket-deal-on-4-july-2025-11756/
END:VEVENT
END:VCALENDAR