BEGIN:VCALENDAR
PRODID:-//Sri Lanka Promotions//NONSGML v1.0//EN
VERSION:2.0
CALSCALE:GREGORIAN
METHOD:PUBLISH
X-WR-CALNAME:Sri Lanka Promotions
X-ORIGINAL-URL:https://srilanka-promotions.com
X-WR-CALDESC:Events for Sri Lanka Promotions
BEGIN:VEVENT
DTSTART:20250716T000000
DTEND:20250807T235900
DTSTAMP:20260421T100856
CREATED:20250716T200825
LAST-MODIFIED:20250716T200825
UID:11824@https://srilanka-promotions.com
SUMMARY:Parallels Offers 35% Off All Desktop Editions for Mac Until 7 Aug 2025
DESCRIPTION:Enjoy 35% off Parallels Desktop software and power your Mac with cross-platform versatility. For more information, visit [ https://srilanka-promotions.com/computers-accessories-software/parallels-offers-35-off-all-desktop-editions-for-mac-until-7-aug-2025-11824/ ]. 
LOCATION:
URL:https://srilanka-promotions.com/computers-accessories-software/parallels-offers-35-off-all-desktop-editions-for-mac-until-7-aug-2025-11824/
END:VEVENT
END:VCALENDAR