BEGIN:VCALENDAR
PRODID:-//Sri Lanka Promotions//NONSGML v1.0//EN
VERSION:2.0
CALSCALE:GREGORIAN
METHOD:PUBLISH
X-WR-CALNAME:Sri Lanka Promotions
X-ORIGINAL-URL:https://srilanka-promotions.com
X-WR-CALDESC:Events for Sri Lanka Promotions
BEGIN:VEVENT
DTSTART:20250815T000000
DTEND:20250815T235900
DTSTAMP:20260421T083514
CREATED:20250815T105017
LAST-MODIFIED:20250815T105017
UID:11945@https://srilanka-promotions.com
SUMMARY:KFC Sri Lanka BOGO Feast - Double Buckets Only on 15 Aug 2025 for One Day Only
DESCRIPTION:Enjoy double KFC Sri Lanka chicken buckets with a one-day buy-one-get-one offer this Friday. For more information, visit [ https://srilanka-promotions.com/dining-restaurants-food/kfc-sri-lanka-bogo-feast-double-buckets-only-on-15-aug-2025-for-one-day-only-11945/ ]. 
LOCATION:
URL:https://srilanka-promotions.com/dining-restaurants-food/kfc-sri-lanka-bogo-feast-double-buckets-only-on-15-aug-2025-for-one-day-only-11945/
END:VEVENT
END:VCALENDAR