BEGIN:VCALENDAR
PRODID:-//Sri Lanka Promotions//NONSGML v1.0//EN
VERSION:2.0
CALSCALE:GREGORIAN
METHOD:PUBLISH
X-WR-CALNAME:Sri Lanka Promotions
X-ORIGINAL-URL:https://srilanka-promotions.com
X-WR-CALDESC:Events for Sri Lanka Promotions
BEGIN:VEVENT
DTSTART:20120525T000000
DTEND:20120527T235900
DTSTAMP:20260420T130342
CREATED:20120526T151451
LAST-MODIFIED:20120526T151451
UID:120@https://srilanka-promotions.com
SUMMARY:Aszai Fashions Up To 30% Off Promotion 25 May 2012
DESCRIPTION:Aszai Fashions is having a Save Big Save Now promotion on read-made & unstitched shalwar, Kameez, Sarees, Kurtis and accessories.. For more information, visit [ https://srilanka-promotions.com/fashion-accessories/aszai-fashions-up-to-30-off-promotion-25-may-2012-120/ ]. 
LOCATION:104 Havelock Road, 000500
URL:https://srilanka-promotions.com/fashion-accessories/aszai-fashions-up-to-30-off-promotion-25-may-2012-120/
END:VEVENT
END:VCALENDAR