BEGIN:VCALENDAR
PRODID:-//Sri Lanka Promotions//NONSGML v1.0//EN
VERSION:2.0
CALSCALE:GREGORIAN
METHOD:PUBLISH
X-WR-CALNAME:Sri Lanka Promotions
X-ORIGINAL-URL:https://srilanka-promotions.com
X-WR-CALDESC:Events for Sri Lanka Promotions
BEGIN:VEVENT
DTSTART:20250829T000000
DTEND:20250829T235900
DTSTAMP:20260420T094655
CREATED:20250829T120048
LAST-MODIFIED:20250829T120048
UID:12017@https://srilanka-promotions.com
SUMMARY:Pizza Hut Sri Lanka Party Hut Friday Deal - Buy 1 Large Pizza & Get 1 FREE on 29 Aug 2025
DESCRIPTION:Enjoy Party Hut Friday with Buy 1 Get 1 Free pizzas plus exclusive add-on discounts. For more information, visit [ https://srilanka-promotions.com/dining-restaurants-food/pizza-hut-sri-lanka-party-hut-friday-deal-buy-1-large-pizza-get-1-free-on-29-aug-2025-12017/ ]. 
LOCATION:
URL:https://srilanka-promotions.com/dining-restaurants-food/pizza-hut-sri-lanka-party-hut-friday-deal-buy-1-large-pizza-get-1-free-on-29-aug-2025-12017/
END:VEVENT
END:VCALENDAR