BEGIN:VCALENDAR
PRODID:-//Sri Lanka Promotions//NONSGML v1.0//EN
VERSION:2.0
CALSCALE:GREGORIAN
METHOD:PUBLISH
X-WR-CALNAME:Sri Lanka Promotions
X-ORIGINAL-URL:https://srilanka-promotions.com
X-WR-CALDESC:Events for Sri Lanka Promotions
BEGIN:VEVENT
DTSTART:20250919T000000
DTEND:20250919T235900
DTSTAMP:20260421T114824
CREATED:20250918T184221
LAST-MODIFIED:20250918T184221
UID:12112@https://srilanka-promotions.com
SUMMARY:Keells 8pc Chicken Bucket + Free Coke for Rs. 1,990 - One-Day Offer on 19 Sep 2025
DESCRIPTION:Limited-time Keells chicken bucket deal with free Coke available only on 19th September 2025.. For more information, visit [ https://srilanka-promotions.com/dining-restaurants-food/keells-8pc-chicken-bucket-free-coke-for-rs-1990-one-day-offer-on-19-sep-2025-12112/ ]. 
LOCATION:
URL:https://srilanka-promotions.com/dining-restaurants-food/keells-8pc-chicken-bucket-free-coke-for-rs-1990-one-day-offer-on-19-sep-2025-12112/
END:VEVENT
END:VCALENDAR