BEGIN:VCALENDAR
PRODID:-//Sri Lanka Promotions//NONSGML v1.0//EN
VERSION:2.0
CALSCALE:GREGORIAN
METHOD:PUBLISH
X-WR-CALNAME:Sri Lanka Promotions
X-ORIGINAL-URL:https://srilanka-promotions.com
X-WR-CALDESC:Events for Sri Lanka Promotions
BEGIN:VEVENT
DTSTART:20250928T000000
DTEND:20250928T235900
DTSTAMP:20260424T224322
CREATED:20250928T132138
LAST-MODIFIED:20250928T132138
UID:12162@https://srilanka-promotions.com
SUMMARY:KFC Sri Lanka Rs. 2990 Hot & Crispy 8pc Feast One Day Only on 28 Sep 2025
DESCRIPTION:Grab KFC Sri Lanka's Rs. 2990 Hot & Crispy 8-piece chicken feast. For more information, visit [ https://srilanka-promotions.com/dining-restaurants-food/kfc-sri-lanka-rs-2990-hot-crispy-8pc-feast-one-day-only-on-28-sep-2025-12162/ ]. 
LOCATION:
URL:https://srilanka-promotions.com/dining-restaurants-food/kfc-sri-lanka-rs-2990-hot-crispy-8pc-feast-one-day-only-on-28-sep-2025-12162/
END:VEVENT
END:VCALENDAR