BEGIN:VCALENDAR
PRODID:-//Sri Lanka Promotions//NONSGML v1.0//EN
VERSION:2.0
CALSCALE:GREGORIAN
METHOD:PUBLISH
X-WR-CALNAME:Sri Lanka Promotions
X-ORIGINAL-URL:https://srilanka-promotions.com
X-WR-CALDESC:Events for Sri Lanka Promotions
BEGIN:VEVENT
DTSTART:20251003T000000
DTEND:20251017T235900
DTSTAMP:20260421T100621
CREATED:20251002T172905
LAST-MODIFIED:20251002T172905
UID:12205@https://srilanka-promotions.com
SUMMARY:Keells 8pc Chicken Bucket for Rs. 1,990 on Fridays till 17 Oct 2025
DESCRIPTION:Crispy Chicken cravings?. For more information, visit [ https://srilanka-promotions.com/dining-restaurants-food/keells-8pc-chicken-bucket-for-rs-1990-on-fridays-till-17-oct-2025-12205/ ]. 
LOCATION:
URL:https://srilanka-promotions.com/dining-restaurants-food/keells-8pc-chicken-bucket-for-rs-1990-on-fridays-till-17-oct-2025-12205/
END:VEVENT
END:VCALENDAR