BEGIN:VCALENDAR
PRODID:-//Sri Lanka Promotions//NONSGML v1.0//EN
VERSION:2.0
CALSCALE:GREGORIAN
METHOD:PUBLISH
X-WR-CALNAME:Sri Lanka Promotions
X-ORIGINAL-URL:https://srilanka-promotions.com
X-WR-CALDESC:Events for Sri Lanka Promotions
BEGIN:VEVENT
DTSTART:20251015T000000
DTEND:20251201T235900
DTSTAMP:20260420T093931
CREATED:20251015T172500
LAST-MODIFIED:20251015T172500
UID:12259@https://srilanka-promotions.com
SUMMARY:NordVPN Black Friday 2025 Deal – Save Up to 74% + 3 Months Free till 1 Dec 2025
DESCRIPTION:Grab unbeatable savings and enjoy secure, private browsing with NordVPN. For more information, visit [ https://srilanka-promotions.com/computers-accessories-software/nordvpn-black-friday-2025-deal-save-up-to-74-3-months-free-till-1-dec-2025-12259/ ]. 
LOCATION:
URL:https://srilanka-promotions.com/computers-accessories-software/nordvpn-black-friday-2025-deal-save-up-to-74-3-months-free-till-1-dec-2025-12259/
END:VEVENT
END:VCALENDAR