BEGIN:VCALENDAR
PRODID:-//Sri Lanka Promotions//NONSGML v1.0//EN
VERSION:2.0
CALSCALE:GREGORIAN
METHOD:PUBLISH
X-WR-CALNAME:Sri Lanka Promotions
X-ORIGINAL-URL:https://srilanka-promotions.com
X-WR-CALDESC:Events for Sri Lanka Promotions
BEGIN:VEVENT
DTSTART:20120715T000000
DTEND:20120831T235900
DTSTAMP:20260425T010032
CREATED:20120715T194306
LAST-MODIFIED:20120715T194306
UID:1229@https://srilanka-promotions.com
SUMMARY:Mercedes Benz Genuine Parts Packages Offers 15 Jul - 31 Aug 2012
DESCRIPTION:Enjoy a full peace of mind with trusted Mercedes-Benz Genuine Parts. Only Genuine Spares can enable your Mercedes-Benz to deliver genuine performance, mileage and safety.. For more information, visit [ https://srilanka-promotions.com/motor-vehicles/mercedes-benz-genuine-parts-packages-offers-15-jul-31-aug-2012-1229/ ]. 
LOCATION:
URL:https://srilanka-promotions.com/motor-vehicles/mercedes-benz-genuine-parts-packages-offers-15-jul-31-aug-2012-1229/
END:VEVENT
END:VCALENDAR