BEGIN:VCALENDAR
PRODID:-//Sri Lanka Promotions//NONSGML v1.0//EN
VERSION:2.0
CALSCALE:GREGORIAN
METHOD:PUBLISH
X-WR-CALNAME:Sri Lanka Promotions
X-ORIGINAL-URL:https://srilanka-promotions.com
X-WR-CALDESC:Events for Sri Lanka Promotions
BEGIN:VEVENT
DTSTART:20251128T000000
DTEND:20251130T235900
DTSTAMP:20260423T205024
CREATED:20251128T000054
LAST-MODIFIED:20251128T000054
UID:12431@https://srilanka-promotions.com
SUMMARY:Popeyes Sri Lanka Black Friday 40% Off Feast (28-30 Nov 2025)
DESCRIPTION:Crunch into massive savings. For more information, visit [ https://srilanka-promotions.com/dining-restaurants-food/popeyes-sri-lanka-black-friday-40-off-feast-28-30-nov-2025-12431/ ]. 
LOCATION:
URL:https://srilanka-promotions.com/dining-restaurants-food/popeyes-sri-lanka-black-friday-40-off-feast-28-30-nov-2025-12431/
END:VEVENT
END:VCALENDAR