BEGIN:VCALENDAR
PRODID:-//Sri Lanka Promotions//NONSGML v1.0//EN
VERSION:2.0
CALSCALE:GREGORIAN
METHOD:PUBLISH
X-WR-CALNAME:Sri Lanka Promotions
X-ORIGINAL-URL:https://srilanka-promotions.com
X-WR-CALDESC:Events for Sri Lanka Promotions
BEGIN:VEVENT
DTSTART:20251201T000000
DTEND:20251211T235900
DTSTAMP:20260421T100601
CREATED:20251202T190020
LAST-MODIFIED:20251202T190020
UID:12449@https://srilanka-promotions.com
SUMMARY:Parallels Desktop 50% Flash Deal for Mac Users until 11 Dec 2025
DESCRIPTION:Huge 50% savings for Mac users running Windows apps smoothly via Parallels Desktop. For more information, visit [ https://srilanka-promotions.com/computers-accessories-software/parallels-desktop-50-flash-deal-for-mac-users-until-11-dec-2025-12449/ ]. 
LOCATION:
URL:https://srilanka-promotions.com/computers-accessories-software/parallels-desktop-50-flash-deal-for-mac-users-until-11-dec-2025-12449/
END:VEVENT
END:VCALENDAR