BEGIN:VCALENDAR
PRODID:-//Sri Lanka Promotions//NONSGML v1.0//EN
VERSION:2.0
CALSCALE:GREGORIAN
METHOD:PUBLISH
X-WR-CALNAME:Sri Lanka Promotions
X-ORIGINAL-URL:https://srilanka-promotions.com
X-WR-CALDESC:Events for Sri Lanka Promotions
BEGIN:VEVENT
DTSTART:20260308T000000
DTEND:20260308T235900
DTSTAMP:20260421T204538
CREATED:20260307T201741
LAST-MODIFIED:20260307T201741
UID:12767@https://srilanka-promotions.com
SUMMARY:Keells Wonder Cone Buy 1 Get 1 FREE Deal on Selected Flavours on 8 Mar 2026
DESCRIPTION:Enjoy double the ice cream delight. For more information, visit [ https://srilanka-promotions.com/dining-restaurants-food/keells-wonder-cone-buy-1-get-1-free-deal-on-selected-flavours-on-8-mar-2026-12767/ ]. 
LOCATION:
URL:https://srilanka-promotions.com/dining-restaurants-food/keells-wonder-cone-buy-1-get-1-free-deal-on-selected-flavours-on-8-mar-2026-12767/
END:VEVENT
END:VCALENDAR