BEGIN:VCALENDAR
PRODID:-//Sri Lanka Promotions//NONSGML v1.0//EN
VERSION:2.0
CALSCALE:GREGORIAN
METHOD:PUBLISH
X-WR-CALNAME:Sri Lanka Promotions
X-ORIGINAL-URL:https://srilanka-promotions.com
X-WR-CALDESC:Events for Sri Lanka Promotions
BEGIN:VEVENT
DTSTART:20120719T000000
DTEND:20120819T235900
DTSTAMP:20260421T011158
CREATED:20120719T210253
LAST-MODIFIED:20120719T210253
UID:1309@https://srilanka-promotions.com
SUMMARY:KFC Sri Lanka 20pc Hot Drumlets / Hot Wings Promotion 19 Jul - 19 Aug 2012
DESCRIPTION:KFC Sri Lanka is having a promotion for the 20 pc Hot Drumlets or 20pc Hot Wings at a special price of just Rs 890. In addition, you get a FREE 500ml Pepsi bottle free to go along with it.. For more information, visit [ https://srilanka-promotions.com/dining-restaurants-food/kfc-sri-lanka-20pc-hot-drumlets-hot-wings-promotion-19-jul-19-aug-2012-1309/ ]. 
LOCATION:
URL:https://srilanka-promotions.com/dining-restaurants-food/kfc-sri-lanka-20pc-hot-drumlets-hot-wings-promotion-19-jul-19-aug-2012-1309/
END:VEVENT
END:VCALENDAR