BEGIN:VCALENDAR
PRODID:-//Sri Lanka Promotions//NONSGML v1.0//EN
VERSION:2.0
CALSCALE:GREGORIAN
METHOD:PUBLISH
X-WR-CALNAME:Sri Lanka Promotions
X-ORIGINAL-URL:https://srilanka-promotions.com
X-WR-CALDESC:Events for Sri Lanka Promotions
BEGIN:VEVENT
DTSTART:20120803T000000
DTEND:20120828T235900
DTSTAMP:20260424T210747
CREATED:20120803T221712
LAST-MODIFIED:20120804T222506
UID:1711@https://srilanka-promotions.com
SUMMARY:Hameedia Ramadan Fiesta Up To 40% Off Promotion Offers 3 - 28 Aug 2012
DESCRIPTION:Hameedia is having a Ramadan Fiesta promotion. Enjoy 15% OFF on first item and 25% off on second item till 28 August. For more information, visit [ https://srilanka-promotions.com/fashion-accessories/hameedia-ramadan-fiesta-up-to-40-off-promotion-offers-3-28-aug-2012-1711/ ]. 
LOCATION:
URL:https://srilanka-promotions.com/fashion-accessories/hameedia-ramadan-fiesta-up-to-40-off-promotion-offers-3-28-aug-2012-1711/
END:VEVENT
END:VCALENDAR