BEGIN:VCALENDAR
PRODID:-//Sri Lanka Promotions//NONSGML v1.0//EN
VERSION:2.0
CALSCALE:GREGORIAN
METHOD:PUBLISH
X-WR-CALNAME:Sri Lanka Promotions
X-ORIGINAL-URL:https://srilanka-promotions.com
X-WR-CALDESC:Events for Sri Lanka Promotions
BEGIN:VEVENT
DTSTART:20120812T000000
DTEND:20120814T235900
DTSTAMP:20260423T151013
CREATED:20120812T223713
LAST-MODIFIED:20120812T223713
UID:2067@https://srilanka-promotions.com
SUMMARY:Singer Sale Up To 50% Off @ Women's International Club Hall 12 - 14 Aug 2012
DESCRIPTION:Singer is having a sale of up to 50% off TVs, fridges, sewing machines, computers and more till 14 August 2012 at Women's International Club Hall, 16, Dr Premasiri Kemadasa Mawatha, Colombo. For more information, visit [ https://srilanka-promotions.com/happenings/singer-sale-up-to-50-off-womens-international-club-hall-12-14-aug-2012-2067/ ]. 
LOCATION:
URL:https://srilanka-promotions.com/happenings/singer-sale-up-to-50-off-womens-international-club-hall-12-14-aug-2012-2067/
END:VEVENT
END:VCALENDAR