BEGIN:VCALENDAR
PRODID:-//Sri Lanka Promotions//NONSGML v1.0//EN
VERSION:2.0
CALSCALE:GREGORIAN
METHOD:PUBLISH
X-WR-CALNAME:Sri Lanka Promotions
X-ORIGINAL-URL:https://srilanka-promotions.com
X-WR-CALDESC:Events for Sri Lanka Promotions
BEGIN:VEVENT
DTSTART:20120815T000000
DTEND:20120826T235900
DTSTAMP:20260423T101527
CREATED:20120815T222304
LAST-MODIFIED:20120815T222304
UID:2106@https://srilanka-promotions.com
SUMMARY:Air Asia Promotion Air Fares 15 - 26 Aug 2012
DESCRIPTION:Buy now and fly now to Bangkok! Air Asia is having a Bangkok air fares promotion till 26 August 2012 for travel from 4 September to 26 October 2012.. For more information, visit [ https://srilanka-promotions.com/airlines-flights/air-asia-promotion-air-fares-15-26-aug-2012-2106/ ]. 
LOCATION:
URL:https://srilanka-promotions.com/airlines-flights/air-asia-promotion-air-fares-15-26-aug-2012-2106/
END:VEVENT
END:VCALENDAR