BEGIN:VCALENDAR
PRODID:-//Sri Lanka Promotions//NONSGML v1.0//EN
VERSION:2.0
CALSCALE:GREGORIAN
METHOD:PUBLISH
X-WR-CALNAME:Sri Lanka Promotions
X-ORIGINAL-URL:https://srilanka-promotions.com
X-WR-CALDESC:Events for Sri Lanka Promotions
BEGIN:VEVENT
DTSTART:20120819T000000
DTEND:20120824T235900
DTSTAMP:20260419T191748
CREATED:20120819T143019
LAST-MODIFIED:20120819T143529
UID:2173@https://srilanka-promotions.com
SUMMARY:Dialog Smartphones & Tablet Promotion Offers 19 - 24 Aug 2012
DESCRIPTION:Enjoy the widest choice of smartphones and tablets from Dialog. Get up to 5GB FREE data and up to 1,000 D2D SMS free with purchase of selected models. For more information, visit [ https://srilanka-promotions.com/jewellery/dialog-smartphones-tablet-promotion-offers-19-aug-2012-2173/ ]. 
LOCATION:
URL:https://srilanka-promotions.com/jewellery/dialog-smartphones-tablet-promotion-offers-19-aug-2012-2173/
END:VEVENT
END:VCALENDAR